BEGIN:VCALENDAR
VERSION:2.0
PRODID:-//Stim Work - ECPv6.15.20//NONSGML v1.0//EN
CALSCALE:GREGORIAN
METHOD:PUBLISH
X-WR-CALNAME:Stim Work
X-ORIGINAL-URL:https://stimwork.no
X-WR-CALDESC:Arrangement for Stim Work
REFRESH-INTERVAL;VALUE=DURATION:PT1H
X-Robots-Tag:noindex
X-PUBLISHED-TTL:PT1H
BEGIN:VTIMEZONE
TZID:Europe/Oslo
BEGIN:DAYLIGHT
TZOFFSETFROM:+0100
TZOFFSETTO:+0200
TZNAME:CEST
DTSTART:20230326T010000
END:DAYLIGHT
BEGIN:STANDARD
TZOFFSETFROM:+0200
TZOFFSETTO:+0100
TZNAME:CET
DTSTART:20231029T010000
END:STANDARD
BEGIN:DAYLIGHT
TZOFFSETFROM:+0100
TZOFFSETTO:+0200
TZNAME:CEST
DTSTART:20240331T010000
END:DAYLIGHT
BEGIN:STANDARD
TZOFFSETFROM:+0200
TZOFFSETTO:+0100
TZNAME:CET
DTSTART:20241027T010000
END:STANDARD
BEGIN:DAYLIGHT
TZOFFSETFROM:+0100
TZOFFSETTO:+0200
TZNAME:CEST
DTSTART:20250330T010000
END:DAYLIGHT
BEGIN:STANDARD
TZOFFSETFROM:+0200
TZOFFSETTO:+0100
TZNAME:CET
DTSTART:20251026T010000
END:STANDARD
END:VTIMEZONE
BEGIN:VEVENT
DTSTART;TZID=Europe/Oslo:20240905T150000
DTEND;TZID=Europe/Oslo:20240905T230000
DTSTAMP:20260425T005145
CREATED:20240624T095006Z
LAST-MODIFIED:20240802T132203Z
UID:937-1725548400-1725577200@stimwork.no
SUMMARY:Åpningsfest STIM Work
DESCRIPTION:STIM Work inviterer til offisiell åpning torsdag 5.september. Kun for inviterte. 
URL:https://stimwork.no/event/torsdagshygge/
LOCATION:Café STIM
ATTACH;FMTTYPE=image/jpeg:https://stimwork.no/wp-content/uploads/2024/06/AdobeStock_303970286-scaled.jpeg
END:VEVENT
END:VCALENDAR