BEGIN:VCALENDAR
VERSION:2.0
PRODID:-//Stim Work - ECPv6.15.20//NONSGML v1.0//EN
CALSCALE:GREGORIAN
METHOD:PUBLISH
X-ORIGINAL-URL:https://stimwork.no
X-WR-CALDESC:Arrangement for Stim Work
REFRESH-INTERVAL;VALUE=DURATION:PT1H
X-Robots-Tag:noindex
X-PUBLISHED-TTL:PT1H
BEGIN:VTIMEZONE
TZID:Europe/Oslo
BEGIN:DAYLIGHT
TZOFFSETFROM:+0100
TZOFFSETTO:+0200
TZNAME:CEST
DTSTART:20230326T010000
END:DAYLIGHT
BEGIN:STANDARD
TZOFFSETFROM:+0200
TZOFFSETTO:+0100
TZNAME:CET
DTSTART:20231029T010000
END:STANDARD
BEGIN:DAYLIGHT
TZOFFSETFROM:+0100
TZOFFSETTO:+0200
TZNAME:CEST
DTSTART:20240331T010000
END:DAYLIGHT
BEGIN:STANDARD
TZOFFSETFROM:+0200
TZOFFSETTO:+0100
TZNAME:CET
DTSTART:20241027T010000
END:STANDARD
BEGIN:DAYLIGHT
TZOFFSETFROM:+0100
TZOFFSETTO:+0200
TZNAME:CEST
DTSTART:20250330T010000
END:DAYLIGHT
BEGIN:STANDARD
TZOFFSETFROM:+0200
TZOFFSETTO:+0100
TZNAME:CET
DTSTART:20251026T010000
END:STANDARD
END:VTIMEZONE
BEGIN:VEVENT
DTSTART;TZID=Europe/Oslo:20241011T080000
DTEND;TZID=Europe/Oslo:20241011T220000
DTSTAMP:20260424T231003
CREATED:20241001T195544Z
LAST-MODIFIED:20241001T200102Z
UID:1214-1728633600-1728684000@stimwork.no
SUMMARY:Vannhull Hallingdal- Samspill & Spons
DESCRIPTION:Velkommen til en inspirerende morgen med Vannhull Hallingdal på STIM Work.\nTema: Hvordan bygge sterke lokalsamfunn gjennom frivillighet og samarbeid? \n\nHer skal man se på hvordan frivillighet\, sponsoravtaler og samarbeid kan bidra til å styrke lokalsamfunn og skape varige verdier.  Du får blant annet høre suksesshistorier fra Skarverennet og lokale idrettslag.\n\n\n\nArrangementet er gratis\, men grunnet bevertning kreves påmelding.\n\nMer informasjon om arrangementet og påmelding finner du HER.
URL:https://stimwork.no/event/vannhull-hallingdal-samspill-spons/
LOCATION:STIM Work
ATTACH;FMTTYPE=image/png:https://stimwork.no/wp-content/uploads/2024/10/stim.work_.vannhull.hallingdal.png
END:VEVENT
END:VCALENDAR