BEGIN:VCALENDAR
VERSION:2.0
PRODID:-//Stim Work - ECPv6.15.20//NONSGML v1.0//EN
CALSCALE:GREGORIAN
METHOD:PUBLISH
X-ORIGINAL-URL:https://stimwork.no
X-WR-CALDESC:Arrangement for Stim Work
REFRESH-INTERVAL;VALUE=DURATION:PT1H
X-Robots-Tag:noindex
X-PUBLISHED-TTL:PT1H
BEGIN:VTIMEZONE
TZID:Europe/Oslo
BEGIN:DAYLIGHT
TZOFFSETFROM:+0100
TZOFFSETTO:+0200
TZNAME:CEST
DTSTART:20230326T010000
END:DAYLIGHT
BEGIN:STANDARD
TZOFFSETFROM:+0200
TZOFFSETTO:+0100
TZNAME:CET
DTSTART:20231029T010000
END:STANDARD
BEGIN:DAYLIGHT
TZOFFSETFROM:+0100
TZOFFSETTO:+0200
TZNAME:CEST
DTSTART:20240331T010000
END:DAYLIGHT
BEGIN:STANDARD
TZOFFSETFROM:+0200
TZOFFSETTO:+0100
TZNAME:CET
DTSTART:20241027T010000
END:STANDARD
BEGIN:DAYLIGHT
TZOFFSETFROM:+0100
TZOFFSETTO:+0200
TZNAME:CEST
DTSTART:20250330T010000
END:DAYLIGHT
BEGIN:STANDARD
TZOFFSETFROM:+0200
TZOFFSETTO:+0100
TZNAME:CET
DTSTART:20251026T010000
END:STANDARD
END:VTIMEZONE
BEGIN:VEVENT
DTSTART;TZID=Europe/Oslo:20241017T074500
DTEND;TZID=Europe/Oslo:20241017T090000
DTSTAMP:20260424T231649
CREATED:20241014T170459Z
LAST-MODIFIED:20241014T170641Z
UID:1239-1729151100-1729155600@stimwork.no
SUMMARY:Coworker x studentfrokost
DESCRIPTION:Vi gjentar suksessen og inviterer alle studenter ved Campus Hallingdal og coworkere på STIM Work til frokost på Cafè STIM. Dette er en god anledning til å mingle og bli kjent med hverandre.\n\nFrokosten er gratis for alle deltakere.\n\nPåmelding:\nMeld deg på ved å sende en e-post til hei@stimwork.no.\n\nVelkommen til en hyggelig start på dagen!
URL:https://stimwork.no/event/coworker-x-studentfrokost/
LOCATION:Café STIM
ATTACH;FMTTYPE=image/jpeg:https://stimwork.no/wp-content/uploads/2024/09/AdobeStock_106474078_2000.jpg
END:VEVENT
END:VCALENDAR