BEGIN:VCALENDAR
VERSION:2.0
PRODID:-//Stim Work - ECPv6.15.20//NONSGML v1.0//EN
CALSCALE:GREGORIAN
METHOD:PUBLISH
X-WR-CALNAME:Stim Work
X-ORIGINAL-URL:https://stimwork.no
X-WR-CALDESC:Arrangement for Stim Work
REFRESH-INTERVAL;VALUE=DURATION:PT1H
X-Robots-Tag:noindex
X-PUBLISHED-TTL:PT1H
BEGIN:VTIMEZONE
TZID:Europe/Oslo
BEGIN:DAYLIGHT
TZOFFSETFROM:+0100
TZOFFSETTO:+0200
TZNAME:CEST
DTSTART:20240331T010000
END:DAYLIGHT
BEGIN:STANDARD
TZOFFSETFROM:+0200
TZOFFSETTO:+0100
TZNAME:CET
DTSTART:20241027T010000
END:STANDARD
BEGIN:DAYLIGHT
TZOFFSETFROM:+0100
TZOFFSETTO:+0200
TZNAME:CEST
DTSTART:20250330T010000
END:DAYLIGHT
BEGIN:STANDARD
TZOFFSETFROM:+0200
TZOFFSETTO:+0100
TZNAME:CET
DTSTART:20251026T010000
END:STANDARD
BEGIN:DAYLIGHT
TZOFFSETFROM:+0100
TZOFFSETTO:+0200
TZNAME:CEST
DTSTART:20260329T010000
END:DAYLIGHT
BEGIN:STANDARD
TZOFFSETFROM:+0200
TZOFFSETTO:+0100
TZNAME:CET
DTSTART:20261025T010000
END:STANDARD
END:VTIMEZONE
BEGIN:VEVENT
DTSTART;TZID=Europe/Oslo:20250828T190000
DTEND;TZID=Europe/Oslo:20250828T203000
DTSTAMP:20260420T083734
CREATED:20250819T063704Z
LAST-MODIFIED:20250819T090636Z
UID:1968-1756407600-1756413000@stimwork.no
SUMMARY:Politi & Røver\, to skjebner ett vennskap
DESCRIPTION:Velkommen til foredraget Politi & Røver!\nHåkon Gisholt\, i mange år landets eneste blinde politimann\, og Tommy\, som har en fortid som tungt belastet sprøytenarkoman og kriminell. Verken Håkon eller Tommy kunne sett for seg at de en dag skulle ende opp som turkamerater og bestevenner. Likevel ble det slik – og sammen forteller de en historie som er både sterk\, rørende og inspirerende. \nDu får høre: \n\n\nHåkons dramatiske historie om å miste synet etter en biljakt\, og hvordan han klarte å snu en livskrise til noe varig positivt. \n\n\nTommys ærlige fortelling om mobbing\, rus og kriminalitet – og veien tilbake til livet. \n\n\nHvordan deres verdensunike Vinn–Vinn-samarbeid har gitt hundrevis av synshemmede og rusavhengige nye opplevelser\, mestring og håp – gjennom krevende turer og aktiviteter i naturen. \n\n\nForedraget legges til Gol i forbindelse med at RP-foreningen samles til tur og aktiviteter på Oset fjellhotell. Tore Ness\, som driver Interoptik Gol\, er vertskap for samlingen\, og ønsker å gi lokalsamfunnet muligheten til å oppleve dette sterke foredraget. \n\nGratis inngang\, men krever påmelding pga. begrenset antall plasser.
URL:https://stimwork.no/event/politi-rover-to-skjebner-ett-vennskap/
LOCATION:STIM Work
ATTACH;FMTTYPE=image/png:https://stimwork.no/wp-content/uploads/2025/08/Folk-og-rover.png
END:VEVENT
END:VCALENDAR