BEGIN:VCALENDAR
VERSION:2.0
PRODID:-//Stim Work - ECPv6.15.20//NONSGML v1.0//EN
CALSCALE:GREGORIAN
METHOD:PUBLISH
X-ORIGINAL-URL:https://stimwork.no
X-WR-CALDESC:Arrangement for Stim Work
REFRESH-INTERVAL;VALUE=DURATION:PT1H
X-Robots-Tag:noindex
X-PUBLISHED-TTL:PT1H
BEGIN:VTIMEZONE
TZID:Europe/Oslo
BEGIN:DAYLIGHT
TZOFFSETFROM:+0100
TZOFFSETTO:+0200
TZNAME:CEST
DTSTART:20230326T010000
END:DAYLIGHT
BEGIN:STANDARD
TZOFFSETFROM:+0200
TZOFFSETTO:+0100
TZNAME:CET
DTSTART:20231029T010000
END:STANDARD
BEGIN:DAYLIGHT
TZOFFSETFROM:+0100
TZOFFSETTO:+0200
TZNAME:CEST
DTSTART:20240331T010000
END:DAYLIGHT
BEGIN:STANDARD
TZOFFSETFROM:+0200
TZOFFSETTO:+0100
TZNAME:CET
DTSTART:20241027T010000
END:STANDARD
BEGIN:DAYLIGHT
TZOFFSETFROM:+0100
TZOFFSETTO:+0200
TZNAME:CEST
DTSTART:20250330T010000
END:DAYLIGHT
BEGIN:STANDARD
TZOFFSETFROM:+0200
TZOFFSETTO:+0100
TZNAME:CET
DTSTART:20251026T010000
END:STANDARD
END:VTIMEZONE
BEGIN:VEVENT
DTSTART;TZID=Europe/Oslo:20241106T080000
DTEND;TZID=Europe/Oslo:20241106T140000
DTSTAMP:20260424T195634
CREATED:20241014T165608Z
LAST-MODIFIED:20241014T170000Z
UID:1228-1730880000-1730901600@stimwork.no
SUMMARY:Cybersikkerhet Hallingdal
DESCRIPTION:Velkommen til Cybersikkerhet Hallingdal ! \nGjensidige Hallingdal og Bruse inviterer til Hallingdals første cybersikkerhetskonferanse. I en tid hvor digital sikkerhet er viktigere enn noen gang\, ønsker de å bidra til å sette cybersikkerhet på dagsorden for bedriftene i lokalsamfunnet. \nKonferansen avliver myten om at små bedrifter i Hallingdal er uinteressante for cyberkriminelle! \n\nArrangementet er åpent for alle interesserte. Mer informasjon om arrangementet og påmelding.
URL:https://stimwork.no/event/cybersikkerhet-hallingdal/
LOCATION:STIM Work
ATTACH;FMTTYPE=image/png:https://stimwork.no/wp-content/uploads/2024/10/Design-uten-navn-28.png
END:VEVENT
BEGIN:VEVENT
DTSTART;TZID=Europe/Oslo:20241114T180000
DTEND;TZID=Europe/Oslo:20241114T210000
DTSTAMP:20260424T195634
CREATED:20241001T201134Z
LAST-MODIFIED:20241008T124613Z
UID:1217-1731607200-1731618000@stimwork.no
SUMMARY:Sosial spillkveld
DESCRIPTION:Hallingdal Bygdeungdomslag arrangerer i samarbeid med Campus Hallingdal spillkveld på Cafè STIM.\n\nEr det lenge siden konkurranseinstinktet har fått skinne \, savner du å samles rundt et brettspill ? Eller kanskje du bare vil være sosial og møte nye mennesker? Da er dette kvelden for deg!\n\nArrangementet er gratis og åpent for alle som vil delta.\n\nCafé STIM holder åpent med enkel servering\, så du kan kjøpe noe å spise og drikke underveis.\nMer informasjon om arrangementet finner du HER. 
URL:https://stimwork.no/event/sosial-spillkveld/
LOCATION:Café STIM
ATTACH;FMTTYPE=image/jpeg:https://stimwork.no/wp-content/uploads/2024/10/AdobeStock_299345176_2-1.jpg
END:VEVENT
BEGIN:VEVENT
DTSTART;TZID=Europe/Oslo:20241120T074500
DTEND;TZID=Europe/Oslo:20241120T210000
DTSTAMP:20260424T195634
CREATED:20241028T091055Z
LAST-MODIFIED:20241111T091053Z
UID:1264-1732088700-1732136400@stimwork.no
SUMMARY:Studentfrokost
DESCRIPTION:Velkommen til en hyggelig julefrokost i Café STIM!\n– for studenter ved campus Hallingdal og Høgskolen på Vestlandet.\n\nKl. 07:45 – 09.00 inviterer STIM Work og campus Hallingdal til gratis studentfrokost juleedition. Det blir servering av brød\, pålegg\, juice og kaffe. Gløgg og pepperkaker.\n\nIngen påmelding nødvendig.\n\nVelkommen til en hyggelig start på dagen!
URL:https://stimwork.no/event/studentfrokost/
LOCATION:Café STIM
ATTACH;FMTTYPE=image/jpeg:https://stimwork.no/wp-content/uploads/2024/10/AdobeStock_237290467_2.jpg
END:VEVENT
END:VCALENDAR