BEGIN:VCALENDAR
VERSION:2.0
PRODID:-//Stim Work - ECPv6.15.20//NONSGML v1.0//EN
CALSCALE:GREGORIAN
METHOD:PUBLISH
X-WR-CALNAME:Stim Work
X-ORIGINAL-URL:https://stimwork.no
X-WR-CALDESC:Arrangement for Stim Work
REFRESH-INTERVAL;VALUE=DURATION:PT1H
X-Robots-Tag:noindex
X-PUBLISHED-TTL:PT1H
BEGIN:VTIMEZONE
TZID:Europe/Oslo
BEGIN:DAYLIGHT
TZOFFSETFROM:+0100
TZOFFSETTO:+0200
TZNAME:CEST
DTSTART:20230326T010000
END:DAYLIGHT
BEGIN:STANDARD
TZOFFSETFROM:+0200
TZOFFSETTO:+0100
TZNAME:CET
DTSTART:20231029T010000
END:STANDARD
BEGIN:DAYLIGHT
TZOFFSETFROM:+0100
TZOFFSETTO:+0200
TZNAME:CEST
DTSTART:20240331T010000
END:DAYLIGHT
BEGIN:STANDARD
TZOFFSETFROM:+0200
TZOFFSETTO:+0100
TZNAME:CET
DTSTART:20241027T010000
END:STANDARD
BEGIN:DAYLIGHT
TZOFFSETFROM:+0100
TZOFFSETTO:+0200
TZNAME:CEST
DTSTART:20250330T010000
END:DAYLIGHT
BEGIN:STANDARD
TZOFFSETFROM:+0200
TZOFFSETTO:+0100
TZNAME:CET
DTSTART:20251026T010000
END:STANDARD
END:VTIMEZONE
BEGIN:VEVENT
DTSTART;TZID=Europe/Oslo:20241203T090000
DTEND;TZID=Europe/Oslo:20241203T230000
DTSTAMP:20260424T180833
CREATED:20241125T122939Z
LAST-MODIFIED:20241125T123115Z
UID:1292-1733216400-1733266800@stimwork.no
SUMMARY:Kraften i Kommunikasjon
DESCRIPTION:Velkommen til foredraget “Kraft i kommunikasjon”! Dette foredraget er en unik mulighet til å lære hvordan effektiv kommunikasjon kan hjelpe deg å nå din målgruppe og oppnå dine mål. Gjennom eksempler\, teori og praktiske øvelser vil du få verktøyene du trenger for å forme og spisse ditt budskap. \nCarina Olset Hovda er en av Norges mest populære TV-programledere. Med over 20 års erfaring fra NRK og en rekke store TV-sendinger\, har Carina en unik innsikt i kommunikasjonens kraft og betydning. \nTema: \n\nHvordan identifisere og forstå sin målgruppe.\nEffektive teknikker for å formidle et klart og engasjerende budskap.\nStrategier for å tilpasse kommunikasjonen til ulike medier og plattformer.\nPraktiske øvelser i å utvikle en kommunikasjonsstrategi.\n\nProgram: \n\nKraften i kommunikasjon: Eksempler og hendelser samt litt teori om kommunikasjonens betydning og hvor avgjørende det er for å nå din målgruppe.\nWorkshop/gruppearbeid: Finn ditt budskap og legg en ministrategi for å treffe ønsket målgruppe. Deltakerne jobber sammen for å forme og spisse sitt budskap.\nQ&A og oppsummering 
URL:https://stimwork.no/event/kraften-i-kommunikasjon/
LOCATION:STIM Work
ATTACH;FMTTYPE=image/jpeg:https://stimwork.no/wp-content/uploads/2024/11/Carina.jpg
END:VEVENT
BEGIN:VEVENT
DTSTART;TZID=Europe/Oslo:20241217T180000
DTEND;TZID=Europe/Oslo:20241217T230000
DTSTAMP:20260424T180833
CREATED:20241204T092409Z
LAST-MODIFIED:20241204T092945Z
UID:1339-1734458400-1734476400@stimwork.no
SUMMARY:Førsjulstreffet for Næringslivet
DESCRIPTION:Hallingdal Næringshage inviterer\, i samarbeid med kommunene i Hallingdal\, til «Førjulstreff for næringslivet.» på STIM Work. Målet med kvelden er å samle næringsaktører på tvers av kommunegrenser for å styrke relasjoner\, bygge nettverk og dele idéer som kan bidra til et sterkere næringsliv i regionen. \nArrangementet legger til rette for mingling og gode samtaler. Foredragsholder og tidligere langrennsløperen Øystein «Pølsa» Pettersen kommer\, og vil dele erfaringer og innsikter fra sitt liv på toppidrettsnivå. Hans foredrag fokuserer på personlig utvikling og prestasjon gjennom hans egenutviklede KONGE-metode. Det blir også live musikk for å skape god stemning\, muligheter for å kjøpe noe godt i glasset\, og servering av juletapas fra Hallingdal Catering. \nBegrenset antall plasser. \n 
URL:https://stimwork.no/event/forsjulstreffet-for-naeringslivet/
LOCATION:STIM Work
ATTACH;FMTTYPE=image/png:https://stimwork.no/wp-content/uploads/2024/12/Forjulstreffet.png
END:VEVENT
END:VCALENDAR