BEGIN:VCALENDAR
VERSION:2.0
PRODID:-//Stim Work - ECPv6.15.20//NONSGML v1.0//EN
CALSCALE:GREGORIAN
METHOD:PUBLISH
X-ORIGINAL-URL:https://stimwork.no
X-WR-CALDESC:Arrangement for Stim Work
REFRESH-INTERVAL;VALUE=DURATION:PT1H
X-Robots-Tag:noindex
X-PUBLISHED-TTL:PT1H
BEGIN:VTIMEZONE
TZID:Europe/Oslo
BEGIN:DAYLIGHT
TZOFFSETFROM:+0100
TZOFFSETTO:+0200
TZNAME:CEST
DTSTART:20240331T010000
END:DAYLIGHT
BEGIN:STANDARD
TZOFFSETFROM:+0200
TZOFFSETTO:+0100
TZNAME:CET
DTSTART:20241027T010000
END:STANDARD
BEGIN:DAYLIGHT
TZOFFSETFROM:+0100
TZOFFSETTO:+0200
TZNAME:CEST
DTSTART:20250330T010000
END:DAYLIGHT
BEGIN:STANDARD
TZOFFSETFROM:+0200
TZOFFSETTO:+0100
TZNAME:CET
DTSTART:20251026T010000
END:STANDARD
BEGIN:DAYLIGHT
TZOFFSETFROM:+0100
TZOFFSETTO:+0200
TZNAME:CEST
DTSTART:20260329T010000
END:DAYLIGHT
BEGIN:STANDARD
TZOFFSETFROM:+0200
TZOFFSETTO:+0100
TZNAME:CET
DTSTART:20261025T010000
END:STANDARD
END:VTIMEZONE
BEGIN:VEVENT
DTSTART;TZID=Europe/Oslo:20250214T090000
DTEND;TZID=Europe/Oslo:20250214T090000
DTSTAMP:20260424T161645
CREATED:20250202T201512Z
LAST-MODIFIED:20250202T201542Z
UID:1446-1739523600-1739523600@stimwork.no
SUMMARY:Regnskapsforståelse for styremedlemmer
DESCRIPTION:Hallingdal Næringshage\, i samarbeid med Kimen til Vekst\, inviterer til de to siste modulene i Autorisasjonsprogrammet for styremedlemmer. Dette er en unik mulighet til å utvikle kompetanse og få innsikt i profesjonelt styrearbeid. Dette kurset er modul 3 av 4\, men du trenger ikke ha vært med på de 2 andre modellene for å være med på dette. \nMer informasjon\,pris og påmelding finner du under.
URL:https://stimwork.no/event/regnskapsforstaelse-for-styremedlemmer/
LOCATION:STIM Work
ATTACH;FMTTYPE=image/jpeg:https://stimwork.no/wp-content/uploads/2025/01/AdobeStock_946276896_Preview.jpeg
END:VEVENT
BEGIN:VEVENT
DTSTART;TZID=Europe/Oslo:20250225T080000
DTEND;TZID=Europe/Oslo:20250225T213000
DTSTAMP:20260424T161645
CREATED:20241122T130412Z
LAST-MODIFIED:20250202T202613Z
UID:1290-1740470400-1740519000@stimwork.no
SUMMARY:Næringsfrokost i Café STIM
DESCRIPTION:Gol kommune\, Hallingdal Næringshage og STIM Work inviterer til hyggelig næringsfrokost café STIM på STIM Work. Det blir gratis enkel frokost og kaffe til alle som kommer. \nMer informasjon om program og påmelding kommer.
URL:https://stimwork.no/event/https-fb-me-e-6pxie9v9q/
LOCATION:Café STIM
ATTACH;FMTTYPE=image/png:https://stimwork.no/wp-content/uploads/2024/09/Naeringsfrokost-Gol-FB-e1726987649301.png
END:VEVENT
END:VCALENDAR