BEGIN:VCALENDAR
VERSION:2.0
PRODID:-//Stim Work - ECPv6.15.20//NONSGML v1.0//EN
CALSCALE:GREGORIAN
METHOD:PUBLISH
X-WR-CALNAME:Stim Work
X-ORIGINAL-URL:https://stimwork.no
X-WR-CALDESC:Arrangement for Stim Work
REFRESH-INTERVAL;VALUE=DURATION:PT1H
X-Robots-Tag:noindex
X-PUBLISHED-TTL:PT1H
BEGIN:VTIMEZONE
TZID:Europe/Oslo
BEGIN:DAYLIGHT
TZOFFSETFROM:+0100
TZOFFSETTO:+0200
TZNAME:CEST
DTSTART:20240331T010000
END:DAYLIGHT
BEGIN:STANDARD
TZOFFSETFROM:+0200
TZOFFSETTO:+0100
TZNAME:CET
DTSTART:20241027T010000
END:STANDARD
BEGIN:DAYLIGHT
TZOFFSETFROM:+0100
TZOFFSETTO:+0200
TZNAME:CEST
DTSTART:20250330T010000
END:DAYLIGHT
BEGIN:STANDARD
TZOFFSETFROM:+0200
TZOFFSETTO:+0100
TZNAME:CET
DTSTART:20251026T010000
END:STANDARD
BEGIN:DAYLIGHT
TZOFFSETFROM:+0100
TZOFFSETTO:+0200
TZNAME:CEST
DTSTART:20260329T010000
END:DAYLIGHT
BEGIN:STANDARD
TZOFFSETFROM:+0200
TZOFFSETTO:+0100
TZNAME:CET
DTSTART:20261025T010000
END:STANDARD
END:VTIMEZONE
BEGIN:VEVENT
DTSTART;TZID=Europe/Oslo:20250307T080000
DTEND;TZID=Europe/Oslo:20250307T100000
DTSTAMP:20260424T132100
CREATED:20250202T200745Z
LAST-MODIFIED:20250202T201056Z
UID:1440-1741334400-1741341600@stimwork.no
SUMMARY:Frokostmøte i Vannhull Hallingdal
DESCRIPTION:Tema: Kompetanse og mangfold. Nøkkelen til fremtiden \nVelkommen til årets første frokostmøte i Vannhull Hallingdal. Start dagen med mingling og frokost i cafè STIM. Deretter blir det foredrag om kompetanse\, rekruttering og mangfold i arbeidslivet. Vannhull Hallingdal ser nærmere på hvordan næringslivet kan møte fremtidens utfordringer – fra kampen om arbeidskraft til nye studiemuligheter og inkluderende rekruttering. \nMer informasjon og påmelding finner du under.
URL:https://stimwork.no/event/frokostmote-i-vannhull-hallingdal/
LOCATION:STIM Work
ATTACH;FMTTYPE=image/jpeg:https://stimwork.no/wp-content/uploads/2024/09/AdobeStock_106474078_2000.jpg
END:VEVENT
BEGIN:VEVENT
DTSTART;TZID=Europe/Oslo:20250319T083000
DTEND;TZID=Europe/Oslo:20250319T140000
DTSTAMP:20260424T132100
CREATED:20250225T075353Z
LAST-MODIFIED:20250225T075353Z
UID:1484-1742373000-1742392800@stimwork.no
SUMMARY:Energidagen - fremtidens energiløsninger
DESCRIPTION:Energimarkedet er i stadig endring og er et marked det er krevende å navigere i. Hva er fremtidens energiløsninger\, hvordan blir nettleien\, hvordan kan jeg gjøre min bedrift mer energieffektiv og bærekraftig? Disse og en rekke andre temaer knyttet til fornybar energi blir drøftet under seminaret som retter seg mot reiselivet\, næringslivet\, det offentlige og landbruket i Hallingdal\, Valdres og Numedal. \nSeminaret er gratis og det serveres lett frokost\, lunsj\, kaffe og mineralvann. \n  \nProgram: \n09.00-09.10: Velkommen\n \n09.10-09.30: Bruse – Komplette solcelleanlegg fra en lokal leverandør\n09.30-09.50: Nære – Bærekraftige nærvarmeanlegg \n09.50-10.10: Pause \n09.50-10.10: ETA Norge – Flisfyring for landbruk og næringsliv\n10.10-10.30: Innovasjon Norge – Støtteordninger til næringsliv og landbruk\n10.50-11.10: Føie – Fremtidens strømforsyning \n11.10-12.00: Lunsj \n12.00-12.20: YVE: Fremtidens kraftpriser og marked\n12.20-12.40: Skue Sparebank – Finansiering av energieffektivisering \n12.40-12.50: Pause \n12.50-13.10: Green Norway – Energieffektivisering av Næringsbygg\n13.10-13.30: Hallingskog – Energieffektivisering landbruket ved Gudbrand Gulsvik\n13.30 –1350: Byggenergi – Optimalisering av varmesentraler \n  \nProgramleder Per Skøien – Skue Sparebank \nArrangører: Bruse AS og Nære AS. \n 
URL:https://stimwork.no/event/energidagen-fremtidens-energilosninger/
LOCATION:STIM Work
ATTACH;FMTTYPE=image/jpeg:https://stimwork.no/wp-content/uploads/2025/02/Lave-Torleif-Dalseide-3-scaled.jpg
END:VEVENT
BEGIN:VEVENT
DTSTART;TZID=Europe/Oslo:20250328T090000
DTEND;TZID=Europe/Oslo:20250328T090000
DTSTAMP:20260424T132100
CREATED:20250202T202020Z
LAST-MODIFIED:20250225T155342Z
UID:1448-1743152400-1743152400@stimwork.no
SUMMARY:Styreautorisasjonsdagen
DESCRIPTION:I samarbeid med Kimen til Vekst inviterer Hallingdal Næringshage til den siste modulen i Autorisasjonsprogrammet for styremedlemmer. Denne modulen forutsetter at du har gjennomført modul 1-3. Denne dagen er en spennende dag da du får testet ut kunnskaper som er gjennomgått på de øvrige 3 kursmodulene\, samt at det kommer flere utfordringer der du kan teste dine kunnskaper og din forståelse for styrearbeid i case-arbeid i grupper. \nFor mer informasjon\, pris og påmelding\, klikk her!
URL:https://stimwork.no/event/styreautorisasjonsdagen/
LOCATION:STIM Work
ATTACH;FMTTYPE=image/png:https://stimwork.no/wp-content/uploads/2025/02/styreautorisasjonsdagen.png
END:VEVENT
END:VCALENDAR