BEGIN:VCALENDAR
VERSION:2.0
PRODID:-//Stim Work - ECPv6.15.20//NONSGML v1.0//EN
CALSCALE:GREGORIAN
METHOD:PUBLISH
X-ORIGINAL-URL:https://stimwork.no
X-WR-CALDESC:Arrangement for Stim Work
REFRESH-INTERVAL;VALUE=DURATION:PT1H
X-Robots-Tag:noindex
X-PUBLISHED-TTL:PT1H
BEGIN:VTIMEZONE
TZID:Europe/Oslo
BEGIN:DAYLIGHT
TZOFFSETFROM:+0100
TZOFFSETTO:+0200
TZNAME:CEST
DTSTART:20240331T010000
END:DAYLIGHT
BEGIN:STANDARD
TZOFFSETFROM:+0200
TZOFFSETTO:+0100
TZNAME:CET
DTSTART:20241027T010000
END:STANDARD
BEGIN:DAYLIGHT
TZOFFSETFROM:+0100
TZOFFSETTO:+0200
TZNAME:CEST
DTSTART:20250330T010000
END:DAYLIGHT
BEGIN:STANDARD
TZOFFSETFROM:+0200
TZOFFSETTO:+0100
TZNAME:CET
DTSTART:20251026T010000
END:STANDARD
BEGIN:DAYLIGHT
TZOFFSETFROM:+0100
TZOFFSETTO:+0200
TZNAME:CEST
DTSTART:20260329T010000
END:DAYLIGHT
BEGIN:STANDARD
TZOFFSETFROM:+0200
TZOFFSETTO:+0100
TZNAME:CET
DTSTART:20261025T010000
END:STANDARD
END:VTIMEZONE
BEGIN:VEVENT
DTSTART;TZID=Europe/Oslo:20250523T080000
DTEND;TZID=Europe/Oslo:20250523T100000
DTSTAMP:20260420T145904
CREATED:20250506T212012Z
LAST-MODIFIED:20250506T212135Z
UID:1706-1747987200-1747994400@stimwork.no
SUMMARY:Frokostmøte i Vannhull Hallingdal
DESCRIPTION:Vannhull 23. mai: 10 år med terrengsykkelsatsing i Hallingdal – hva har det ført til\, og hvor går veien videre? \nI løpet av ti år har terrengsykkelsatsingen i Hallingdal gjort langt mer enn å bygge stier. Den har skapt arbeidsplasser\, tiltrukket nye innbyggere\, styrket merkevaren Hallingdal og bidratt til økt omsetning for lokalt næringsliv. Sykkelen har blitt et viktig verktøy for bolyst\, helårsturisme og regional utvikling. \nDet blir et tilbakeblikk på hva satsingen har utløst – og et blikk fremover mot hvilke muligheter og ambisjoner som kan forme de neste ti årene. \nFor påmelding og program se her.
URL:https://stimwork.no/event/frokostmote-i-vannhull-hallingdal-2/
LOCATION:STIM Work
ATTACH;FMTTYPE=image/jpeg:https://stimwork.no/wp-content/uploads/2024/09/AdobeStock_106474078_2000.jpg
END:VEVENT
BEGIN:VEVENT
DTSTART;TZID=Europe/Oslo:20250527T080000
DTEND;TZID=Europe/Oslo:20250527T213000
DTSTAMP:20260420T145904
CREATED:20250506T212443Z
LAST-MODIFIED:20250506T212443Z
UID:1708-1748332800-1748381400@stimwork.no
SUMMARY:Næringsfrokost i Café STIM
DESCRIPTION:Gol kommune\, Hallingdal Næringshage og STIM Work inviterer til en trivelig næringsfrokost på café STIM hos STIM Work. Det blir servert gratis\, enkel frokost og kaffe til alle som møter opp. \nMer informasjon og program kommer snart!
URL:https://stimwork.no/event/naeringsfrokost-i-cafe-stim-4/
LOCATION:Café STIM
ATTACH;FMTTYPE=image/png:https://stimwork.no/wp-content/uploads/2024/09/Naeringsfrokost-Gol-FB-e1726987649301.png
END:VEVENT
END:VCALENDAR