BEGIN:VCALENDAR
VERSION:2.0
PRODID:-//Stim Work - ECPv6.15.20//NONSGML v1.0//EN
CALSCALE:GREGORIAN
METHOD:PUBLISH
X-WR-CALNAME:Stim Work
X-ORIGINAL-URL:https://stimwork.no
X-WR-CALDESC:Arrangement for Stim Work
REFRESH-INTERVAL;VALUE=DURATION:PT1H
X-Robots-Tag:noindex
X-PUBLISHED-TTL:PT1H
BEGIN:VTIMEZONE
TZID:Europe/Oslo
BEGIN:DAYLIGHT
TZOFFSETFROM:+0100
TZOFFSETTO:+0200
TZNAME:CEST
DTSTART:20240331T010000
END:DAYLIGHT
BEGIN:STANDARD
TZOFFSETFROM:+0200
TZOFFSETTO:+0100
TZNAME:CET
DTSTART:20241027T010000
END:STANDARD
BEGIN:DAYLIGHT
TZOFFSETFROM:+0100
TZOFFSETTO:+0200
TZNAME:CEST
DTSTART:20250330T010000
END:DAYLIGHT
BEGIN:STANDARD
TZOFFSETFROM:+0200
TZOFFSETTO:+0100
TZNAME:CET
DTSTART:20251026T010000
END:STANDARD
BEGIN:DAYLIGHT
TZOFFSETFROM:+0100
TZOFFSETTO:+0200
TZNAME:CEST
DTSTART:20260329T010000
END:DAYLIGHT
BEGIN:STANDARD
TZOFFSETFROM:+0200
TZOFFSETTO:+0100
TZNAME:CET
DTSTART:20261025T010000
END:STANDARD
END:VTIMEZONE
BEGIN:VEVENT
DTSTART;TZID=Europe/Oslo:20251125T074500
DTEND;TZID=Europe/Oslo:20251125T213000
DTSTAMP:20260419T172009
CREATED:20250819T063050Z
LAST-MODIFIED:20251121T142057Z
UID:1966-1764056700-1764106200@stimwork.no
SUMMARY:Næringsfrokost Gol - 25. november
DESCRIPTION:Velkommen til næringsfrokost!\nGol kommune\, Hallingdal Næringshage og STIM Work inviterer til næringsfrokost i Café STIM. Det blir servert en gratis frokost og kaffe til alle. Arrangementet er åpent for alle. \nFrokost: Serveres fra kl. 07.45Program: starter kl. 08.10. \nSe mer detaljert program og meld deg på via Facebok arrangementet her! \nVelkommen til en hyggelig start på dagen!
URL:https://stimwork.no/event/naeringsfrokost-i-cafe-stim-5/
LOCATION:Café STIM
ATTACH;FMTTYPE=image/png:https://stimwork.no/wp-content/uploads/2024/09/Naeringsfrokost-Gol-FB-e1726987649301.png
END:VEVENT
BEGIN:VEVENT
DTSTART;TZID=Europe/Oslo:20251127T160000
DTEND;TZID=Europe/Oslo:20251127T200000
DTSTAMP:20260419T172009
CREATED:20250917T103553Z
LAST-MODIFIED:20251003T064124Z
UID:2036-1764259200-1764273600@stimwork.no
SUMMARY:Inkluderingskonferansen "Alle tiders torsdag" 2025
DESCRIPTION:VINN Hallingdal inviterer til årets viktigste møteplass for inkludering i arbeidslivet. Her møter du innovative\, erfarne og kunnskapsrike bidragsytere som inspirerer!\nDU FÅR: Gode eksempler og erfaringer – Ny kunnskap – Inspirasjon til videre arbeid! \nDet hele starter med mat og mingling\, før Andrea Bredesen Holm\, vinner av The Voice 2025\, går på scenen. Pål Knutsson Medhus fra Høve Støtt As vil ta publikum gjennom ettermiddagen hvor dere møter et eget A-landslag fra Vinn som skal intervjue ordfører i Hemsedal\, Pål Rørby. Videre blir det faglig innspill og inspirasjon fra blant annet Øystein Spjelkavik som er forsker på inkluderingskompetanse\, og Hans-Jørgen Johnsen fra Kopano. Du vil også møte flere lokale kjenninger\, som leder i NAV\, Sigrid Simensen Ilsøy\, Heidi Granli\, Sparebank1 og Hallingdal Næringshage. \nFølg oppdatert program på Facebook arrangementet!
URL:https://stimwork.no/event/inkluderingskonferansen/
LOCATION:STIM Work
ATTACH;FMTTYPE=image/jpeg:https://stimwork.no/wp-content/uploads/2025/09/inkluderingskonferansen.jpg
END:VEVENT
END:VCALENDAR